BEGIN:VCALENDAR
VERSION:2.0
PRODID:-//hacksw/handcal//NONSGML v1.0//EN
BEGIN:VEVENT
SUMMARY:Repas du club
UID:d3839066-989b-4457-8489-8571c283dcf8
DTSTART:20260530T160000Z
DTEND:20260530T220000Z
LOCATION:Siege AS Sportsregions 10 avenue Georges Auric 72000 Le Mans
CATEGORIES:Festif
STATUS:
URL;VALUE=URI:https://demofoot.sportsregions.fr/evenements/2026/05/30/repas-du-club-2297876
END:VEVENT
END:VCALENDAR
